BEGIN:VCALENDAR
VERSION:2.0
PRODID:-//CERN//INDICO//EN
BEGIN:VEVENT
SUMMARY:Asian Physics and Software Meeting
DTSTART:20260406T060000Z
DTEND:20260406T071500Z
DTSTAMP:20260424T223200Z
UID:indico-event-11008@agenda.linearcollider.org
DESCRIPTION:https://u-tokyo-ac-jp.zoom.us/j/84554632255?pwd=ULm1jI5ElV05sH
 zpTw1NWeDhHZuFD1.1\nmeeting ID: 845 5463 2255passcode: 843129\n\nhttps://a
 genda.linearcollider.org/event/11008/
URL:https://agenda.linearcollider.org/event/11008/
END:VEVENT
END:VCALENDAR
