BEGIN:VCALENDAR
VERSION:2.0
PRODID:-//CERN//INDICO//EN
BEGIN:VEVENT
SUMMARY:di-Higgs analysis working meeting
DTSTART:20260408T063000Z
DTEND:20260408T073000Z
DTSTAMP:20260423T091100Z
UID:indico-event-11010@agenda.linearcollider.org
DESCRIPTION:https://desy.zoom.us/j/64781856087\nPasscode: 314159 \n\nhttp
 s://agenda.linearcollider.org/event/11010/
URL:https://agenda.linearcollider.org/event/11010/
END:VEVENT
END:VCALENDAR
