BEGIN:VCALENDAR
VERSION:2.0
PRODID:-//CERN//INDICO//EN
BEGIN:VEVENT
SUMMARY:di-Higgs analysis working meeting
DTSTART:20260415T070000Z
DTEND:20260415T080000Z
DTSTAMP:20260423T104000Z
UID:indico-event-11011@agenda.linearcollider.org
DESCRIPTION:https://desy.zoom.us/j/64781856087\nPasscode: 314159 \n\nhttp
 s://agenda.linearcollider.org/event/11011/
URL:https://agenda.linearcollider.org/event/11011/
END:VEVENT
END:VCALENDAR
