BEGIN:VCALENDAR
VERSION:2.0
PRODID:-//CERN//INDICO//EN
BEGIN:VEVENT
SUMMARY:di-Higgs analysis working meeting
DTSTART:20260422T070000Z
DTEND:20260422T080000Z
DTSTAMP:20260423T074700Z
UID:indico-event-11012@agenda.linearcollider.org
DESCRIPTION:https://desy.zoom.us/j/64781856087\nPasscode: 314159 \n\nhttp
 s://agenda.linearcollider.org/event/11012/
URL:https://agenda.linearcollider.org/event/11012/
END:VEVENT
END:VCALENDAR
