BEGIN:VCALENDAR
VERSION:2.0
PRODID:-//CERN//INDICO//EN
BEGIN:VEVENT
SUMMARY:HFCAL-JP weekly meeting
DTSTART:20260414T013000Z
DTEND:20260414T030000Z
DTSTAMP:20260423T065700Z
UID:indico-event-11016@agenda.linearcollider.org
DESCRIPTION:https://cern.zoom.us/j/98623928231?pwd=SGtpNUFmZDhhUmtINGJyUUd
 pRG5Edz09\nSIP:98623928231@188.184.85.92 or 98623928231@188.184.87.135H.32
 3:188.184.85.92 or 188.184.87.135meeting ID: 986 2392 8231\n\nhttps://agen
 da.linearcollider.org/event/11016/
URL:https://agenda.linearcollider.org/event/11016/
END:VEVENT
END:VCALENDAR
