BEGIN:VCALENDAR
VERSION:2.0
PRODID:-//CERN//INDICO//EN
BEGIN:VEVENT
SUMMARY:ILD Analysis/Software Meeting
DTSTART:20260422T120000Z
DTEND:20260422T140000Z
DTSTAMP:20260421T105700Z
UID:indico-event-11019@agenda.linearcollider.org
DESCRIPTION:zoom coordinates to be distributed by email!\n\nhttps://agenda
 .linearcollider.org/event/11019/
URL:https://agenda.linearcollider.org/event/11019/
END:VEVENT
END:VCALENDAR
