BEGIN:VCALENDAR
VERSION:2.0
PRODID:-//CERN//INDICO//EN
BEGIN:VEVENT
SUMMARY:LCTPC WP meeting #456
DTSTART:20260423T110000Z
DTEND:20260423T130000Z
DTSTAMP:20260423T060600Z
UID:indico-event-11022@agenda.linearcollider.org
DESCRIPTION:Thursday 23. April 2026\nWest Coast     East Coast     W
 . Europe    Japan\n04.00                07.00      
          13.00              20.00\nPLEASE NOTE: This LCTPC
  WP meeting will be done via zoom. The connection details are distributed 
 via email.\n \n\nhttps://agenda.linearcollider.org/event/11022/
LOCATION:Universe
URL:https://agenda.linearcollider.org/event/11022/
END:VEVENT
END:VCALENDAR
